BEGIN:VCALENDAR
VERSION:2.0
PRODID:-//Tango Mango - ECPv6.2.9//NONSGML v1.0//EN
CALSCALE:GREGORIAN
METHOD:PUBLISH
X-ORIGINAL-URL:https://tangomango.at
X-WR-CALDESC:Veranstaltungen für Tango Mango
REFRESH-INTERVAL;VALUE=DURATION:PT1H
X-Robots-Tag:noindex
X-PUBLISHED-TTL:PT1H
BEGIN:VTIMEZONE
TZID:Europe/Berlin
BEGIN:DAYLIGHT
TZOFFSETFROM:+0100
TZOFFSETTO:+0200
TZNAME:CEST
DTSTART:20250330T010000
END:DAYLIGHT
BEGIN:STANDARD
TZOFFSETFROM:+0200
TZOFFSETTO:+0100
TZNAME:CET
DTSTART:20251026T010000
END:STANDARD
END:VTIMEZONE
BEGIN:VEVENT
DTSTART;TZID=Europe/Berlin:20251215T180000
DTEND;TZID=Europe/Berlin:20251218T210000
DTSTAMP:20260421T232050
CREATED:20251203T145538Z
LAST-MODIFIED:20251203T205908Z
UID:13224-1765821600-1766091600@tangomango.at
SUMMARY:Special Christmas Workshops - December 2025
DESCRIPTION:✨ Special Christmas Workshops – \n15. Milonga | 17. Tango | 18. Vals December 2025 \n  \n🥭 Mo\, 15.12.: MILONGA WORKSHOPS (all levels from L2 upwards) \n2 × 75 min on MONDAY\, 15th of December 2025 – with Marcelo & Fanni \n🕘 6:00-7:15 pm – fundamentals: mandatory if you have no prior knowledge \n🕘 7:45–9:00 pm – applications (with 30 min. break) \nLanguage: mainly English \n📍@Tango Mango Studio\, Währinger Gürtel 81\, 1180 Wien \nAs the name suggests\, we’ll dive into the joyful world of Milonga! Starting from the basics and rhythm (in the first 75 minutes) \, we’ll explore a variety of elements that work beautifully within the Milonga style (in the second part). The goal is to develop a natural feel for the music\, feel comfortable on the dance floor\, and above all\, experience freedom and fun. Our motto: Let’s play! 🎶 \nBoth workshops are suitable for all levels (from L2 upwards) and build on each other. If you have no prior knowledge the first 75 minutes are mandatory as there we give an introduction to milonga. \n\n		\n		\n			Registration for the Milonga Workshops		\n	\n \n  \n🥭 We\, 17.12.: TANGO WORKSHOP (all levels) \n2 × 75 Min. on WEDNESDAY\, 17th of December 2025 – with Fanni & Chiara \n🕘 6:00-7:15 pm – Dancing in Connection \n🔥 TANGO MANGO CHRISTMAS MILONGA starting directly afterwards from 7:30 pm with DJ Francesco from Italy! 🔥 \nLanguage: English \n📍@Tango Mango Studio\, Währinger Gürtel 81\, 1180 Wien \nWhether you are new to Tango or looking to enrich your dance with more nuance and authenticity\, this special workshop is intended to deepen your experience of connection – with yourself\, your partner\, and the music. \nConnection transforms the dance into a true conversation…\na shared expression…\na moment of presence and trust. \nThrough structured exercises and guided experimentation\, we will explore: \n•⁠ ⁠Body awareness – listening inward to move with clarity and ease\n•⁠ ⁠Partner communication – creating dialogue through embrace\, breath\, and intention\n•⁠ ⁠Musical sensitivity – allowing the music to guide meaning and emotional texture \nWe will also guide participants in: \n•⁠ ⁠Finding a stronger sense of purpose in their dance – moving from meaning rather than habit\n•⁠ ⁠Achieving technical precision & quality – refining mechanics so expression can flow freely\n•⁠ ⁠Cultivating artistic presence – dancing with intention\, expression\, and authenticity \n\n		\n		\n			Registration for the Tango Workshop		\n	\n \n  \n🥭 Th\, 18.12.: VALS WORKSHOPS (all levels from L2 upwards) \n2 × 75 Min. on THURSDAY\, 18. Dezember 2025 – with Marcelo & Chiara \n🕘 6:00-7:15 pm – fundamentals: mandatory if you have no prior knowledge \n🕘 7:45–9:00 pm – applications (with 30 min. break) \nLanguage: mainly English \n📍@Tango Mango Studio\, Währinger Gürtel 81\, 1180 Wien \nLet’s bring playfulness and elegance to the Vals through creative combinations in 3/4 time! We’ll explore the lightness and musicality of the Vals\, connect different movements\, and internalize them until the rhythm becomes second nature.  \nBoth workshops are suitable for all levels (from L2 upwards) and build on each other – the perfect preparation for your first dance into the New Year! If you have no prior knowledge the first 75 minutes are mandatory as there we give an introduction to tango vals. \n\n		\n		\n			Registration for the Vals Workshops		\n	\n \n  \nWe’re very much looking forward to seeing you! 😃 \nAbrazo \nYOUR TANGO MANGO TEAM \nℹ️ Price per Person: \n1x WS Tango/Milonga/Vals: €28 / €22*\n2x WS Milonga/Vals: €50 / €38*\n4x WS (Milonga AND Vals): €90 / €70* \n*Reduction YOUNG for all under 30.
URL:https://tangomango.at/event/special-christmas-workshops-december-2025/
LOCATION:Tango Mango Studio\, Währinger Gürtel 81\, 1180 Wien\, Währinger Gürtel 81\, WIen\, Wien\, 1180\, Österreich
CATEGORIES:Workshops
ATTACH;FMTTYPE=image/jpeg:https://tangomango.at/wp-content/uploads/2025/12/4042ce66-3814-4fb0-ae7e-25f86ee5a4c6.jpeg
ORGANIZER;CN="Marcelo & No%C3%A9mi":MAILTO:info@tangomango.at
END:VEVENT
END:VCALENDAR