BEGIN:VCALENDAR
VERSION:2.0
PRODID:-//Tango Mango - ECPv6.2.9//NONSGML v1.0//EN
CALSCALE:GREGORIAN
METHOD:PUBLISH
X-WR-CALNAME:Tango Mango
X-ORIGINAL-URL:https://tangomango.at
X-WR-CALDESC:Veranstaltungen für Tango Mango
REFRESH-INTERVAL;VALUE=DURATION:PT1H
X-Robots-Tag:noindex
X-PUBLISHED-TTL:PT1H
BEGIN:VTIMEZONE
TZID:Europe/Berlin
BEGIN:DAYLIGHT
TZOFFSETFROM:+0100
TZOFFSETTO:+0200
TZNAME:CEST
DTSTART:20250330T010000
END:DAYLIGHT
BEGIN:STANDARD
TZOFFSETFROM:+0200
TZOFFSETTO:+0100
TZNAME:CET
DTSTART:20251026T010000
END:STANDARD
END:VTIMEZONE
BEGIN:VEVENT
DTSTART;TZID=Europe/Berlin:20250301T183000
DTEND;TZID=Europe/Berlin:20250301T193000
DTSTAMP:20260421T092422
CREATED:20250210T212436Z
LAST-MODIFIED:20250226T152520Z
UID:12897-1740853800-1740857400@tangomango.at
SUMMARY:Tango Argentino Schnupperstunde & Anfängerkurs I
DESCRIPTION:Entdecke Tango Argentino mit uns!\nLiebe Freunde und liebe Interessierte! \nDu bist auf der Suche nach was Neuem\, Frischem\, das Du vielleicht sogar mit Deinem Partner machen kannst? Du willst Dich gemeinsam zur Musik bewegen und ein Stück weit Buenos Aires erleben? Dann bist Du hier genau richtig – eine Tango-Kostprobe für alle Neuankömmlinge. \n🥭 Eine Tango Schnupperstunde findet am Samstag\, 1. März 2025 von 18:30-19:30 Uhr in der ÖTK\, Bäckerstraße 16\, 1010 Wien statt. Ohne Partner:in und ohne Vorkenntnisse\, komm einfach wie Du bist! Anschließend findet hier auch eine besondere Edition der Milonga Central statt\, wo man zum Tanzen\, Tratschen\, Trinken von 20:00 – 23:00 Uhr verweilen kann. Die Milonga ist im Preis von 15€/10€* inkludiert! (*Ermäßigung YOUNG = für alle unter 30 Jahren.) \nDies ist eine Kostprobe\, für die\, die Tango mal ausprobieren möchten. Also nehmt Eure Freunde mit und zeigt ihnen\, was Eure Leidenschaft ist! \n\n		\n		\n			Ich bin dabei!		\n	\n \n🥭 Eine weitere Möglichkeit Tango Argentino zu Schnuppern ist am Sonntag\, 9. März 2025 von 11:00 – 12:00 Uhr\, bei uns im Tango Mango Studio\, Währiger Gürtel 81\, 1180 Wien. Hier findet anschließend unsere Tango Mango Milonga unter entspannter Athmosphäre statt; gerne hier auch noch verweilen. (Preis: 15€/10€* inkl. Milonga; *Ermäßigung YOUNG = für alle unter 30 Jahren.) \n\n		\n		\n			Ich bin dabei!		\n	\n \nSolltest Du keine/n Partner/in für den Schnupperkurs haben\, komm´einfach vorbei\, vor Ort findet sich meistens jemand! Wir freuen uns auf Dich und auf das gemeinsame Tanzen! 🙂 \n  \nDu möchtest dann Tango Argentino weiter lernen? Dann komm zum: \n🥭 Tango Anfängerkurs I (Level 1): ab Dienstag\, 4. März bis 8. April 2025 (insgesamt 6 Einheiten)\, 18:00 – 19:15 Uhr \n📍Location: @Tango Mango Studio\, Währinger Gürtel 81\, 1180 Wien (U6 Währinger Straße/Volksoper) \n\n		\n		\n			Ich bin dabei!		\n	\n \nℹ️ Für den Anfängerkurs ist ein/e Partner:in notwendig\, wenn Du Interesse hast\, aber noch keine/n Tanzpartner:in\, dann komm zur Schnupperstunde\, vielleicht findet sich da jemand oder schreib uns an und wir versuchen jemanden für Dich uz finden. \nWir freuen uns sehr auf das gemeinsame Entdecken des Tangos! 🥳 \nGroße Umarmung \nDein Tango Mango Team \n 
URL:https://tangomango.at/event/tango-argentino-schnupperstunde-anfaengerkurs-i/
LOCATION:Tango Mango Studio\, Währinger Gürtel 81\, 1180 Wien\, Währinger Gürtel 81\, WIen\, Wien\, 1180\, Österreich
CATEGORIES:Events
ATTACH;FMTTYPE=image/png:https://tangomango.at/wp-content/uploads/2025/02/Flyer-Anfaengerkurs-und-Schnupperstunde-Druckvorlage-Maerz-2025.png
END:VEVENT
BEGIN:VEVENT
DTSTART;TZID=Europe/Berlin:20250309T110000
DTEND;TZID=Europe/Berlin:20250309T160000
DTSTAMP:20260421T092422
CREATED:20250226T210809Z
LAST-MODIFIED:20250228T125542Z
UID:12892-1741518000-1741536000@tangomango.at
SUMMARY:Tango Mango Milonga
DESCRIPTION:Tango Mango Milonga\nLiebe TangotänzerInnen\, \nLiebe Freunde und liebe Interessierte! \nWir laden Euch herzlich zur Tango Mango Milonga am Sonntag\, 9. März 2025\, 11:00 – 16:00 Uhr zum Währinger Gürtel 81\, 1180 Wien ein. 🥳 \nWas erwartet Euch dort? \n🥭 Von 11:00 – 12:00 Uhr findet eine Tango Schnupperstunde statt. Dies ist eine Kostprobe\, für die\, die Tango mal ausprobieren möchten. Also nehmt Eure Freunde mit und zeigt ihnen\, was Eure Leidenschaft ist! \n🥭 Von 12:00 – 16:00 Uhr findet die Milonga statt: zum Plaudern\, Essen & Trinken und Genießen – mit DJ Christian Oberndorfer! 🎶 \n🔥 Weitere Termine: Samstag\, 26.4.2025 mit den Tango Weltmeistern 2024: Fati & Brenno! \nWir freuen uns sehr mit Euch diesen Sonntag tanzend zu genießen! 🥳 \nGroße Umarmung \nDein Tango Mango Team \nPS: Eintritt: 15€/10€* (inkl. Schnupperstunde) \n*YOUNG Ermäßigung für alle unter 30 Jahren. \n 
URL:https://tangomango.at/event/tango-mango-milonga-maerz2025/
LOCATION:Tango Mango Studio\, Währinger Gürtel 81\, 1180 Wien\, Währinger Gürtel 81\, WIen\, Wien\, 1180\, Österreich
CATEGORIES:Events
ATTACH;FMTTYPE=image/png:https://tangomango.at/wp-content/uploads/2025/02/Flyer-Tango-Mango-Milonga-Maerz-2025_Website.png
END:VEVENT
BEGIN:VEVENT
DTSTART;TZID=Europe/Berlin:20250322T193000
DTEND;TZID=Europe/Berlin:20250322T204500
DTSTAMP:20260421T092422
CREATED:20250317T140549Z
LAST-MODIFIED:20250317T223948Z
UID:12881-1742671800-1742676300@tangomango.at
SUMMARY:PIMP UP YOUR TANGO! - Tango Workshops @Milonga Central - by Tango Mango
DESCRIPTION:PIMP UP YOUR TANGO! – by Tango Mango\nDu tanzt gerne Tango und hast Lust auf frischen Input? Du würdest gerne mehr Variation und Vielfalt in Deinen Tanz bringen? Oder auch mehr Ausdruck und Verbindung? Oder kommst einfach gerne zu uns?\nMit Tango Mango hast Du die Gelegenheit Deinen Tango upzugraden. \n  \n🥭 Samstag\, 22.3.2025 – 19:30-20:45 Uhr  – @ÖTK\, Bäckerstraße 16\, 1010 Wien \n“Out of Axis & Flexible Embrace” (part 2; no need of having been in part 1) – Marcelo & Fanni \nDescription: Lets deep dive into out of axis once again! You’ll get more comfortable moving out of axis while keeping the embrace relaxed and adaptable. We’ll focus on balance\, connection\, and making everything feel as smooth as possible. Let’s keep exploring together! \n📍@ÖTK\, Bäckerstraße 16\, 1010 Wien \n  \nWeitere Termine: 5.4.25 | 10.5.25 \n  \nVergangene Termine: \n🥭 AnfängerInnen Special: 1.3.25 – Tango Schnupperstunde (inkl. Milonga!) von 18:30-19:30 Uhr. \nAnschließend findet eine besondere Edition der Milonga Central statt: nämlich für AnfängerInnen; von 20:00 – 23:00 Uhr. \n🥭 Samstag\, 1.2.2025 – 19:30-20:45 Uhr  – @ÖTK\, Bäckerstraße 16\, 1010 Wien \n“Out of Axis & Flexible Embrace” (Marcelo & Fanni) \nThis workshop is all about stepping out of axis with confidence and ease while maintaining a strong connection with your partner. The focus is on adapting the embrace flexibly to make movements smoother and more natural. Perfect for anyone looking to add more dynamic and excitement to their tango. Join us and get inspired! \n  \nℹ️ Preis pro Workshop/Person: 25€/20€* (inkl. Milonga-Eintritt) \n*Ermäßigung YOUNG für alle unter 30 Jahren. \nMelde Dich gerne mit Partner/in an unter: info@tangomango.at\, Tel: 06763421725. \nWir freuen uns auf Euch! \nAbrazo \nDein Tango Mango Team 🕺💃 \nPS: Die Bezahlung erfolgt bar vor Ort. Vielen Dank.
URL:https://tangomango.at/event/pimp-up-your-tango-tango-workshops-milonga-central-by-tango-mango-3/
LOCATION:ÖTK\, Bäckerstraße 16\, Bäckerstraße 16\, 1010 Wien\, Wien\, 1010\, Österreich
CATEGORIES:Events,Workshops
ATTACH;FMTTYPE=image/png:https://tangomango.at/wp-content/uploads/2025/01/Pimp-up-your-tango_Milonga-Central-2025.png
END:VEVENT
END:VCALENDAR