BEGIN:VCALENDAR
VERSION:2.0
PRODID:-//Tango Mango - ECPv6.2.9//NONSGML v1.0//EN
CALSCALE:GREGORIAN
METHOD:PUBLISH
X-ORIGINAL-URL:https://tangomango.at
X-WR-CALDESC:Veranstaltungen für Tango Mango
REFRESH-INTERVAL;VALUE=DURATION:PT1H
X-Robots-Tag:noindex
X-PUBLISHED-TTL:PT1H
BEGIN:VTIMEZONE
TZID:Europe/Berlin
BEGIN:DAYLIGHT
TZOFFSETFROM:+0100
TZOFFSETTO:+0200
TZNAME:CEST
DTSTART:20250330T010000
END:DAYLIGHT
BEGIN:STANDARD
TZOFFSETFROM:+0200
TZOFFSETTO:+0100
TZNAME:CET
DTSTART:20251026T010000
END:STANDARD
END:VTIMEZONE
BEGIN:VEVENT
DTSTART;TZID=Europe/Berlin:20250108T180000
DTEND;TZID=Europe/Berlin:20250108T190000
DTSTAMP:20260421T060953
CREATED:20250107T085119Z
LAST-MODIFIED:20250107T085742Z
UID:12854-1736359200-1736362800@tangomango.at
SUMMARY:Tango Argentino Schnupperstunde & Anfängerkurs I
DESCRIPTION:Entdecke Tango Argentino mit uns!\nLiebe Freunde und liebe Interessierte! \nDu bist auf der Suche nach was Neuem\, Frischem\, das Du vielleicht sogar mit Deinem Partner machen kannst? Du willst Dich gemeinsam zur Musik bewegen und ein Stück weit Buenos Aires erleben? Dann bist Du hier genau richtig – eine Tango-Kostprobe für alle Neuankömmlinge. \n🥭 Die Tango Schnupperstunde findet am Mittwoch\, 8. Jänner 2025 von 18:00-19:00 Uhr im Tango Mango Studio\, am Währinger Gürtel 81\, 1180 Wien statt. Ohne Partner:in und ohne Vorkenntnisse\, komm einfach wie Du bist! \nDies ist eine Kostprobe\, für die\, die Tango mal ausprobieren möchten. Also nehmt Eure Freunde mit und zeigt ihnen\, was Eure Leidenschaft ist! \n\n		\n		\n			Ich bin dabei!		\n	\n \nAnschließend findet von 19:30 bis 22:00 Uhr die Tango Mango Practica statt\, wo ihr gerne zum Tanzen\, Tratschen und/oder etwas Trinken verweilen könnt. Solltest Du keine/n Partner/in für den Schnupperkurs haben\, komm´einfach vorbei\, vor Ort findet sich meistens jemand! Wir freuen uns auf Dich und auf das gemeinsame Tanzen! 🙂 \nPreis: 15 Euro / 10 Euro* (*Ermäßigung YOUNG für alle unter 30) inkl. Practica 🥳 \nDu möchtest dann Tango Argentino lernen? Dann komm zum \n🥭 Tango Anfängerkurs I (Level 1): Dienstags\, 14.1. – 25.2.2025 (kein Kurs am 4.2.; insgesamt 6 Einheiten) \n\n		\n		\n			Ich bin dabei!		\n	\n \nUND/ODER \n🥭 Tango Anfängerkurs I (Level 1): Mittwochs\, 15.1. – 26.2.2025 (kein Kurs am 5.2.; insgesamt 6 Einheiten) \n\n		\n		\n			Ich bin dabei!		\n	\n \n📍Location: @Tango Mango Studio\, Währinger Gürtel 81\, 1180 Wien (U6 Währinger Straße/Volksoper) \nℹ️ Für den Anfängerkurs ist ein/e Partner:in notwendig\, wenn Du Interesse hast\, aber noch keine/n Tanzpartner:in\, dann komm zur Schnupperstunde\, vielleicht findet sich da jemand oder schreib uns an und wir versuchen jemanden für Dich uz finden. \n  \nWir freuen uns sehr mit Euch das neue Jahr tanzend zu beginnen! 🥳 \nGroße Umarmung \nDein Tango Mango Team \n 
URL:https://tangomango.at/event/tango-schnupperstunde2025/
LOCATION:Tango Mango Studio\, Währinger Gürtel 81\, 1180 Wien\, Währinger Gürtel 81\, WIen\, Wien\, 1180\, Österreich
CATEGORIES:Events
ATTACH;FMTTYPE=image/png:https://tangomango.at/wp-content/uploads/2025/01/Flyer-Vorlage-Anfaengerkurs-ab-Jaenner-2025.png
END:VEVENT
BEGIN:VEVENT
DTSTART;TZID=Europe/Berlin:20250126T120000
DTEND;TZID=Europe/Berlin:20250126T160000
DTSTAMP:20260421T060953
CREATED:20241024T213933Z
LAST-MODIFIED:20250125T224228Z
UID:12816-1737892800-1737907200@tangomango.at
SUMMARY:Tango Mango Milonga
DESCRIPTION:Tango Mango Milonga\nLiebe TangotänzerInnen\, \nLiebe Freunde und liebe Interessierte! \nWir laden Euch herzlich zur Tango Mango Milonga am Sonntag\, 26. Jänner 2025\, 12:00 – 16:00 Uhr zum Währinger Gürtel 81\, 1180 Wien ein. 🥳 \nWas erwartet Euch dort? \n🥭 Von 12:00 – 16:00 Uhr findet die Milonga statt: zum Plaudern\, Essen & Trinken und Genießen – mit DJ Dark-oh! 🎶 \n🔥 Weitere Termine: 16.2.2025 | 9.3.2025 \nWir freuen uns sehr mit Euch das neue Jahr tanzend zu feiern! 🥳 \nGroße Umarmung \nDein Tango Mango Team \nPS: Eintritt: 15€/10€* YOUNG Ermäßigung \n 
URL:https://tangomango.at/event/tango-mango-milonga-jaenner2025/
LOCATION:Tango Mango Studio\, Währinger Gürtel 81\, 1180 Wien\, Währinger Gürtel 81\, WIen\, Wien\, 1180\, Österreich
CATEGORIES:Events
ATTACH;FMTTYPE=image/png:https://tangomango.at/wp-content/uploads/2024/10/Flyer-Tango-Mango-Milonga-Jaenner-2025-ohne-Schnupperstunde.png
END:VEVENT
END:VCALENDAR