BEGIN:VCALENDAR
VERSION:2.0
PRODID:-//Tango Mango - ECPv6.2.9//NONSGML v1.0//EN
CALSCALE:GREGORIAN
METHOD:PUBLISH
X-WR-CALNAME:Tango Mango
X-ORIGINAL-URL:https://tangomango.at
X-WR-CALDESC:Veranstaltungen für Tango Mango
REFRESH-INTERVAL;VALUE=DURATION:PT1H
X-Robots-Tag:noindex
X-PUBLISHED-TTL:PT1H
BEGIN:VTIMEZONE
TZID:Europe/Berlin
BEGIN:DAYLIGHT
TZOFFSETFROM:+0100
TZOFFSETTO:+0200
TZNAME:CEST
DTSTART:20240331T010000
END:DAYLIGHT
BEGIN:STANDARD
TZOFFSETFROM:+0200
TZOFFSETTO:+0100
TZNAME:CET
DTSTART:20241027T010000
END:STANDARD
END:VTIMEZONE
BEGIN:VEVENT
DTSTART;TZID=Europe/Berlin:20240106T200000
DTEND;TZID=Europe/Berlin:20240107T050000
DTSTAMP:20260422T040301
CREATED:20230611T193915Z
LAST-MODIFIED:20231209T142621Z
UID:12440-1704571200-1704603600@tangomango.at
SUMMARY:TANGO MANGO & DER WIENER TÄNZERBALL
DESCRIPTION:EINE BALLNACHT VON TÄNZERN FÜR TÄNZER\n\n\n\n\n“Wenn uns die Pandemie eines gezeigt hat dann\, dass Musik\, Tanz und geselliges Beisammensein zu den ursprünglichsten Bedürfnissen der Menschen gehört.”\n\nIn diesem Sinne findet die „Wiener Nacht des Tanzes“ 2024 zum zweiten Mal statt und hat es sich zum Ziel gesetzt die bunte Vielfalt der Wiener Tanzszene in einem atemberaubenden Event widerzuspiegeln. Tänzerinnen und Tänzer jeden Stils\, Alters und tänzerischen Niveaus sind eingeladen in dieser rauschenden Ballnacht ihre Liebe und Leidenschaft zum Tanzen im wunderschönen Rahmen des Wiener Konzerthauses zu feiern.\n\n\nZÜNDET MIT UNS EIN TÄNZERISCHES FEUERWERK\n\n\n🥭 Am Samstag\, 6.1.2024\, 20:00 Uhr – 05:00 Uhr\n🥭 @Konzerthaus Wien\n🥭 mit Zahlreichen Showblöcken (Tango um 23:30 Uhr im Wotruba-Salon 1.OG)\n🥭 Alle Infos & Tickets unter: Tänzerball.at\n🥭 mit dem Code TangomangoWNT24  erhältst Du 20€ auf den nächsten Tango-Kurs (bitte auf Klein- & Großschreibung achten) \n  \nWir freuen uns sehr das neue Jahr feiernd mit Dir zu starten! \nGroße Umarmung \nDEIN TANGO MANGO TEAM \n 
URL:https://tangomango.at/event/taenzerball2024/
LOCATION:Konzerthaus Wien\, Lothringerstraße 20\, Wien\, Wien\, 1030\, Österreich
CATEGORIES:Events
ATTACH;FMTTYPE=image/jpeg:https://tangomango.at/wp-content/uploads/2023/06/4ED1FBA2-2542-4D14-87AA-C186221C697E.jpeg
END:VEVENT
BEGIN:VEVENT
DTSTART;TZID=Europe/Berlin:20240113T193000
DTEND;TZID=Europe/Berlin:20240114T020000
DTSTAMP:20260422T040301
CREATED:20231230T214020Z
LAST-MODIFIED:20240124T102752Z
UID:12565-1705174200-1705197600@tangomango.at
SUMMARY:Milonga Central - hosted by Tango Mango
DESCRIPTION:¡Hola Tanguer@s! \nAm 13. Januar 2024 steigt gleich die nächste Tango Party von Tango Mango – für diesen Abend dürfen wir dich in der Bäckerstraße begrüßen! 🎉 Schau vorbei und lass uns gemeinsam eine gute Zeit verbringen. \n🥭 Wann geht’s los? \nDie Tür öffnet sich um 19:30 Uhr für eine Tango-Schnupperstunde. Sowohl für alle Neugierigen & Unerschrockenen als auch für diejenigen\, die noch nicht tanzen und Tango entdecken wollen. Komm einfach wie du bist; mit oder ohne Partner:in. Die eigentliche Milonga beginnt dann um 21:00 Uhr und geht bis 02:00 Uhr – Zeit genug\, um die Nacht zum Tag zu machen und das Tanzbein zu schwingen! \n🥭 Was erwartet euch? \nDJ Endre kommt aus Budapest angereist\, um an diesem Abend für Stimmung zu sorgen. Musik kann also nur gut werden. \n🥭 Über den DJ: \nEndre liebt Tangomusik sowohl als DJ als auch als Tänzer. \nEr war mehrmals in Buenos Aires\, wo er viele verschiedene Tango-Events besuchte und auf die Faktoren achtete\, die zu einem großartigen Tanzabend beitragen. Als DJ wählt er seine Musik sorgfältig von Tanja zu Tanda entsprechend der Epoche\, dem Orchester und der tatsächlichen Atmosphäre in der Milonga aus. \nEr ist Organisator und DJ der Budapester Burg-Milonga\, die als eine der schönsten Milonga-Veranstaltungsorte Europas gilt. \n🥭 Fazit: \nAm 13. Jänner wartet ein Abend voller Tango\, guter Musik und toller Gesellschaft auf dich. Merke dir das Datum vor\, packe deine Tanzschuhe ein und sei dabei! Wir freuen uns auf Dich! \nAbrazo\, \nDein Tango Mango Team 🕺💃 \nEintritt: 15€/10€* \n*Ermäßigung YOUNG für alle unter 30 Jahren. \nPS: Es ist keine Anmeldung für die Milonga notwendig\, komm einfach wie Du bist. Die Bezahlung erfolgt bar vor Ort. Vielen Dank.
URL:https://tangomango.at/event/milongacentral/
LOCATION:ÖTK\, Bäckerstraße 16\, Bäckerstraße 16\, 1010 Wien\, Wien\, 1010\, Österreich
CATEGORIES:Events
ATTACH;FMTTYPE=image/png:https://tangomango.at/wp-content/uploads/2023/12/Vorlage-Milonga-Central-Flyer-neu-2024_mit-DJ-WEB-Kopie.png
ORGANIZER;CN="Marcelo & No%C3%A9mi":MAILTO:info@tangomango.at
END:VEVENT
END:VCALENDAR