BEGIN:VCALENDAR
VERSION:2.0
PRODID:-//Tango Mango - ECPv6.2.9//NONSGML v1.0//EN
CALSCALE:GREGORIAN
METHOD:PUBLISH
X-ORIGINAL-URL:https://tangomango.at
X-WR-CALDESC:Veranstaltungen für Tango Mango
REFRESH-INTERVAL;VALUE=DURATION:PT1H
X-Robots-Tag:noindex
X-PUBLISHED-TTL:PT1H
BEGIN:VTIMEZONE
TZID:Europe/Berlin
BEGIN:DAYLIGHT
TZOFFSETFROM:+0100
TZOFFSETTO:+0200
TZNAME:CEST
DTSTART:20250330T010000
END:DAYLIGHT
BEGIN:STANDARD
TZOFFSETFROM:+0200
TZOFFSETTO:+0100
TZNAME:CET
DTSTART:20251026T010000
END:STANDARD
END:VTIMEZONE
BEGIN:VEVENT
DTSTART;TZID=Europe/Berlin:20251128T180000
DTEND;TZID=Europe/Berlin:20251130T130000
DTSTAMP:20260421T231311
CREATED:20251021T181215Z
LAST-MODIFIED:20251021T181547Z
UID:13139-1764352800-1764507600@tangomango.at
SUMMARY:Tango Argentino Crash Course II | 28.-30. November 2025
DESCRIPTION:Tango Argentino Crash Course II (Level 2): Cross system & Calesita\n28. – 30. November 2025\nDEUTSCH: \n🥭 Du hast bereits Vorkenntnisse in Tango Argentino und möchtest gerne weiter tanzen? \nDann ist dieser Crash Kurs (Level 2) genau das Richtige für Dich! Hier vertiefen wir unsere Kenntnisse und legen den Grundstein für die Improvisation. Wir schauen uns genauer zwei besondere Themen an: das Kreuzsystem und die Calesita. Dieser Intensiv-Wochenendkurs ist die Weiterführung des Anfänger I bzw des Crash Kurs (Level 1); er eignet sich aber auch für WiedereinsteigerInnen\, die bereits Vorkenntnisse haben. \nZögere nicht zu lange\, melde Dich an & sei dabei – Du wirst es nicht bereuen! \nUnterrichtssprache: Deutsch/Englisch \n🥭 Der Kurs findet am Wochenende: 28. – 30. November 2025 statt. \nTeil 1: Fr.\, 28.11.25\, 18:00 – 21:00 Uhr (mit 30 Min. Pause) \nTeil 2: Sa\, 29.11.25\, 16:00 – 19:00 Uhr (mit 30 Min. Pause) \nTeil 3: So\, 30.11.25\, 10:00 – 13:00 Uhr (mit 30 Min. Pause) \nDer Kurs ist aufbauend\, man kann allerdings auch nur einzelne Tage/Teile buchen. \n👉 Registrierung zum Kurs direkt online hier (über Eversports): \n\n		\n		\n			Ich bin dabei!		\n	\n \nWir freuen uns riesig Dich dabei zu haben und auf das gemeinsame Tanzerleben! \nGroße Umarmung \nDEIN TANGO MANGO TEAM  \n🥭 Weitere Infos: \n📍Location: @Tango Mango Studio\, Währinger Gürtel 81\, 1180 Wien (Eingang: von der Straße direkt; U6 Währinger Straße/Volksoper) \nPreis: 145€/115€* (*Ermäßigung YOUNG – für alle unter 30 Jahren) \nEinzelne Tage/ Teile: 56€/44€* (*YOUNG) – wobei Teil 1 verpflichtend ist\, wenn man keine Vorkenntnisse in diesen Themen hat. Danke für Dein Verständnis. \nPS: Anmeldung bitte mit Partner/in und falls Du Interesse hast\, aber keine/n Tanzpartner/in\, schreib uns einfach\, wir versuchen weiterzuhelfen. \n****************** \nENGLISH VERSION: \nYou already have some experience in Argentine Tango and would like to keep dancing? \nThen this crash course (Level 2) is just right for you! Here we’ll deepen our knowledge and lay the foundation for improvisation. We’ll take a closer look at two special topics: the cross system and the calesita. \nThis intensive weekend course is a continuation of the Beginner I or Crash Course (Level 1)\, but it’s also perfect for dancers returning to tango who already have some prior experience. \nLanguage: German/English \n🥭 The course takes place on the weekend:  November 28th – November 30th\, 2025 \nPart 1: Fr\, 11/28/25\, 6:00 p.m. – 9:00 p.m. (with 30 min. break) \nPart 2: Sat\, 11/29/25\, 4:00 p.m. – 7:00 p.m. (with 30 min. break) \nPart 3: Sun\, 11/30/25\, 10:00 a.m. – 1:00 p.m. (with 30 min. break) \nThe course is constructive\, but you can also book only individual days/parts. \n👉 Registration to the course directly here (via Eversports): \n\n		\n		\n			I am in!		\n	\n \nWe are really looking forward to having you there and looking forward to experiencing dancing together! 💜🧡 \nBig hugs \nYOUR TANGO MANGO TEAM \n  \n🥭 Further information: \n📍 Location: @Tango Mango Studio\, Währinger Belt 81\, 1180 Vienna (U6 Währinger Straße/Volksoper) \nPrice: 145€/115€* (*Young discount – for everyone under 30 years) \nIndividual days/parts: 56€/44€* (*YOUNG) – whereby part 1 is mandatory if you have no previous knowledge. Thank you for your understanding. \nPS: Please register with a partner and if you do not have a dance-partner\, write us and we will try to help you to find one.
URL:https://tangomango.at/event/tango-argentino-crash-course-2-november-2025/
LOCATION:Tango Mango Studio\, Währinger Gürtel 81\, 1180 Wien\, Währinger Gürtel 81\, WIen\, Wien\, 1180\, Österreich
CATEGORIES:Events,Workshops
ATTACH;FMTTYPE=image/jpeg:https://tangomango.at/wp-content/uploads/2025/10/DSC_4150.jpg
END:VEVENT
END:VCALENDAR