BEGIN:VCALENDAR
VERSION:2.0
PRODID:-//Tango Mango - ECPv6.2.9//NONSGML v1.0//EN
CALSCALE:GREGORIAN
METHOD:PUBLISH
X-WR-CALNAME:Tango Mango
X-ORIGINAL-URL:https://tangomango.at
X-WR-CALDESC:Veranstaltungen für Tango Mango
REFRESH-INTERVAL;VALUE=DURATION:PT1H
X-Robots-Tag:noindex
X-PUBLISHED-TTL:PT1H
BEGIN:VTIMEZONE
TZID:Europe/Berlin
BEGIN:DAYLIGHT
TZOFFSETFROM:+0100
TZOFFSETTO:+0200
TZNAME:CEST
DTSTART:20250330T010000
END:DAYLIGHT
BEGIN:STANDARD
TZOFFSETFROM:+0200
TZOFFSETTO:+0100
TZNAME:CET
DTSTART:20251026T010000
END:STANDARD
END:VTIMEZONE
BEGIN:VEVENT
DTSTART;TZID=Europe/Berlin:20250906T193000
DTEND;TZID=Europe/Berlin:20250914T130000
DTSTAMP:20260421T201853
CREATED:20250531T144703Z
LAST-MODIFIED:20250531T144703Z
UID:12996-1757187000-1757854800@tangomango.at
SUMMARY:Tango Argentino Schnupperstunde & Anfängerkurse
DESCRIPTION:Entdecke Tango Argentino mit uns!\nLiebe Freunde und liebe Interessierte! \nDu bist auf der Suche nach was Neuem\, Frischem\, das Du vielleicht sogar mit Deinem Partner machen kannst? Du willst Dich gemeinsam zur Musik bewegen und ein Stück weit Buenos Aires erleben? Dann bist Du hier genau richtig – eine Tango-Kostprobe für alle Neuankömmlinge. \n🥭 Eine Tango Schnupperstunde findet am Samstag\, 6. September 2025 von 19:30-20:30 Uhr in der ÖTK\, Bäckerstraße 16\, 1010 Wien statt. Ohne Partner:in und ohne Vorkenntnisse\, komm einfach wie Du bist! Anschließend findet hier auch eine die Milonga Central statt\, wo man gerne zum Tanzen\, Tratschen\, Trinken von 21:00 – 02:00 Uhr verweilen kann. Die Milonga ist im Preis von 15€/10€* inkludiert! (*Ermäßigung YOUNG = für alle unter 30 Jahren.) \nDies ist eine Kostprobe\, für die\, die Tango mal ausprobieren möchten. Also nehmt Eure Freunde mit und zeigt ihnen\, was Eure Leidenschaft ist! \n📍Location: ÖTK\, Bäckerstraße 16\, 1010 Wien  \n\n		\n		\n			Ich bin dabei!		\n	\n \nDu möchtest dann Tango Argentino weiter lernen? Dann komm zum: \n🥭 Tango Crash Kurs Wochenende (ohne Vorkenntnisse): Freitag – Sonntag\, 12. September bis 14. September 2025 (insgesamt 6 Einheiten) \n📍Location: @Tango Mango Studio\, Währinger Gürtel 81\, 1180 Wien (U6 Währinger Straße/Volksoper) \nTeil 1: Fr.\, 12.9.25\, 18:00 – 21:00 Uhr (mit 30 Min. Pause) \nTeil 2: Sa\, 13.9.25\, 16:30 – 19:30 Uhr (mit 30 Min. Pause) \nTeil 3: So\, 14.9.25\, 10:00 – 13:00 Uhr (mit 30 Min. Pause) \nℹ️ Weitere Infos & Anmeldung hier. \n🥭 Tango Anfängerkurs I (Level 1\, ohne Vorkenntnisse): jeden Montag\, 15. September bis 27. Oktober 2025 (insgesamt 6 Einheiten; kein Kurs am 6.10.)\, 19:45 – 21:00 Uhr \n📍Location: @Tango Mango Studio\, Währinger Gürtel 81\, 1180 Wien (U6 Währinger Straße/Volksoper) \n\n		\n		\n			Ich bin dabei!		\n	\n \nℹ️ Für den Anfängerkurs ist ein/e Partner:in notwendig\, wenn Du Interesse hast\, aber noch keine/n Tanzpartner:in\, dann komm zur Schnupperstunde\, vielleicht findet sich da jemand oder schreib uns an und wir versuchen jemanden für Dich uz finden. \nWir freuen uns sehr auf das gemeinsame Entdecken des Tangos! 🥳 \nGroße Umarmung \nDein Tango Mango Team \n 
URL:https://tangomango.at/event/tango-argentino-schnupperstunde-anfaengerkurse-september25/
LOCATION:Tango Mango Studio\, Währinger Gürtel 81\, 1180 Wien\, Währinger Gürtel 81\, WIen\, Wien\, 1180\, Österreich
CATEGORIES:Events
ATTACH;FMTTYPE=image/png:https://tangomango.at/wp-content/uploads/2025/05/Flyer-Vorlage-Schnupperstunde-und-Anfaengerkurs-Druckvorlage-2025_Format-A5__Zeichenflaeche-1.png
END:VEVENT
BEGIN:VEVENT
DTSTART;TZID=Europe/Berlin:20250912T180000
DTEND;TZID=Europe/Berlin:20250914T130000
DTSTAMP:20260421T201853
CREATED:20250524T155044Z
LAST-MODIFIED:20250525T081049Z
UID:12989-1757700000-1757854800@tangomango.at
SUMMARY:Tango Argentino Crash Course | 12.-14. September 2025
DESCRIPTION:Tango Argentino Crash Course (Level 1)\n12. – 14. September 2025\nDEUTSCH: \n🥭 Möchtest Du was Neues lernen und Dich dabei zur Musik bewegen? Möchtest Du dies nicht alleine machen\, sondern mit anderen? Dann ist das Deine Chance! Tauche ein mit uns Schritt für Schritt in die Welt des Tangos. Im Crash Kurs (Level 1) benötigst Du keine Vorkenntnisse\, lediglich Offenheit und Spaß an der Bewegung\, denn wir starten ganz von vorne mit den Grundlagen des Tangos. \nUnterrichtssprache: Deutsch/Englisch – mit Fanni & Marcelo \n🥭 Der Kurs findet am Wochenende: 12. – 14. September 2025 statt. \nTeil 1: Fr.\, 12.9.25\, 18:00 – 21:00 Uhr (mit 30 Min. Pause) \nTeil 2: Sa\, 13.9.25\, 16:30 – 19:30 Uhr (mit 30 Min. Pause) \nTeil 3: So\, 14.9.25\, 10:00 – 13:00 Uhr (mit 30 Min. Pause) \nDer Kurs ist aufbauend\, man kann allerdings auch einzelne Tage/Teile nur buchen\, nur Teil 1 ist verpflichtend\, wenn man keine Vorkenntnisse hat. Er findet auf Deutsch/Englisch statt. \n👉 Registrierung zum Kurs direkt online hier (über Eversports): \n\n		\n		\n			Ich bin dabei!		\n	\n \nWir freuen uns riesig Dich dabei zu haben und auf das gemeinsame Tanzerleben! \nGroße Umarmung \nDEIN TANGO MANGO TEAM  \n🥭 Weitere Infos: \n📍Location: @Tango Mango Studio\, Währinger Gürtel 81\, 1180 Wien (Eingang: von der Straße direkt; U6 Währinger Straße/Volksoper) \nPreis: 145€/115€* (*Ermäßigung YOUNG – für alle unter 30 Jahren) \nEinzelne Tage/ Teile: 56€/44€* (*YOUNG) – wobei Teil 1 verpflichtend ist\, wenn man keine Vorkenntnisse hat. Danke für Dein Verständnis. \nPS: Anmeldung bitte mit Partner/in und falls Du Interesse hast\, aber keine/n Tanzpartner/in\, schreib uns einfach\, wir versuchen weiterzuhelfen. \n****************** \nENGLISH VERSION: \nWould you like to learn something new and move to music? Don’t you want to do this alone\, but with others? Then this is your chance! Immerse yourself step by step into the world of tango with us. In this crash course (Level 1) you don’t need any previous knowledge\, just openness and fun with the movement\, because we start from the beginning with the basics of tango. \nLanguage: German/English – with Fanni & Marcelo \n🥭 The course takes place on the weekend: September 12th – September 14th\, 2025 \nPart 1: Fr\, 9/12/25\, 6:00 p.m. – 9:00 p.m. (with 30 min. break) \nPart 2: Sat\, 9/13/25\, 4:30 p.m. – 7:30 p.m. (with 30 min. break) \nPart 3: Sun\, 9/14/25\, 10:00 a.m. – 1:00 p.m. (with 30 min. break) \nThe course is constructive\, but you can also book individual days/parts; only part 1 is mandatory if you have no previous tango knowledge. The course will be in German/English. \n👉 Registration to the course directly here (via Eversports): \n\n		\n		\n			I am in!		\n	\n \nWe are really looking forward to having you there and looking forward to experiencing dancing together! 💜🧡 \nBig hugs \nYOUR TANGO MANGO TEAM \n  \n🥭 Further information: \n📍 Location: @Tango Mango Studio\, Währinger Belt 81\, 1180 Vienna (U6 Währinger Straße/Volksoper) \nPrice: 145€/115€* (*Young discount – for everyone under 30 years) \nIndividual days/parts: 56€/44€* (*YOUNG) – whereby part 1 is mandatory if you have no previous knowledge. Thank you for your understanding. \nPS: Please register with a partner and if you do not have a dance-partner\, write us and we will try to help you to find one.
URL:https://tangomango.at/event/tango-argentino-crash-course-12-14-september-2025/
LOCATION:Tango Mango Studio\, Währinger Gürtel 81\, 1180 Wien\, Währinger Gürtel 81\, WIen\, Wien\, 1180\, Österreich
CATEGORIES:Events,Workshops
ATTACH;FMTTYPE=image/png:https://tangomango.at/wp-content/uploads/2025/05/Flyer-Tango-Crash-Kurs-September-2025_Vorderseite.png
END:VEVENT
END:VCALENDAR