BEGIN:VCALENDAR
VERSION:2.0
PRODID:-//Tango Mango - ECPv6.2.9//NONSGML v1.0//EN
CALSCALE:GREGORIAN
METHOD:PUBLISH
X-ORIGINAL-URL:https://tangomango.at
X-WR-CALDESC:Veranstaltungen für Tango Mango
REFRESH-INTERVAL;VALUE=DURATION:PT1H
X-Robots-Tag:noindex
X-PUBLISHED-TTL:PT1H
BEGIN:VTIMEZONE
TZID:Europe/Berlin
BEGIN:DAYLIGHT
TZOFFSETFROM:+0100
TZOFFSETTO:+0200
TZNAME:CEST
DTSTART:20250330T010000
END:DAYLIGHT
BEGIN:STANDARD
TZOFFSETFROM:+0200
TZOFFSETTO:+0100
TZNAME:CET
DTSTART:20251026T010000
END:STANDARD
END:VTIMEZONE
BEGIN:VEVENT
DTSTART;TZID=Europe/Berlin:20250411T180000
DTEND;TZID=Europe/Berlin:20250413T130000
DTSTAMP:20260421T121734
CREATED:20250225T144322Z
LAST-MODIFIED:20250225T164627Z
UID:12920-1744394400-1744549200@tangomango.at
SUMMARY:Tango Argentino Crash Kurs | 11.-13. April 2025
DESCRIPTION:Tango Argentino Crash Kurs (Level 1)\n– 11. – 13. April 2025\nDEUTSCH: \n🥭 Möchtest Du was Neues lernen und Dich dabei zur Musik bewegen? Möchtest Du dies nicht alleine machen\, sondern mit anderen? Dann ist das Deine Chance! Tauche ein mit uns Schritt für Schritt in die Welt des Tangos. Im Crash Kurs (Level 1) benötigst Du keine Vorkenntnisse\, lediglich Offenheit und Spaß an der Bewegung\, denn wir starten ganz von vorne mit den Grundlagen des Tangos. \nUnterrichtssprache: Deutsch/Englisch \n🥭 Der Kurs findet am Wochenende: 11. April – 13. April 2025 statt. \nTeil 1: Fr.\, 11.4.25\, 18:00 – 21:00 Uhr (mit 30 Min. Pause) – mit Marcelo & Fanni \nTeil 2: Sa\, 12.4.25\, 16:30 – 19:30 Uhr (mit 30 Min. Pause) – mit Marcelo & Noémi \nTeil 3: So\, 13.4.25\, 10:00 – 13:00 Uhr (mit 30 Min. Pause) – mit Noémi & Fanni \nDer Kurs ist aufbauend\, man kann allerdings auch einzelne Tage/Teile nur buchen\, nur Teil 1 ist verpflichtend\, wenn man keine Vorkenntnisse hat. Er findet auf Deutsch/Englisch statt. \n👉 Registrierung zum Kurs direkt online hier (über Eversports): \n\n		\n		\n			Ich bin dabei!		\n	\n \nWir freuen uns riesig Dich dabei zu haben und auf das gemeinsame Tanzerleben! \nGroße Umarmung \nDEIN TANGO MANGO TEAM  \n🥭 Weitere Infos: \n📍Location: @Tango Mango Studio\, Währinger Gürtel 81\, 1180 Wien (Eingang: von der Straße direkt; U6 Währinger Straße/Volksoper) \nPreis: 145€/115€* (*Ermäßigung YOUNG – für alle unter 30 Jahren) \nEinzelne Tage/ Teile: 56€/44€* (*YOUNG) – wobei Teil 1 verpflichtend ist\, wenn man keine Vorkenntnisse hat. Danke für Dein Verständnis. \nPS: Anmeldung bitte mit Partner/in und falls Du Interesse hast\, aber keine/n Tanzpartner/in\, schreib uns einfach\, wir versuchen weiterzuhelfen. \n****************** \nENGLISH VERSION: \nWould you like to learn something new and move to music? Don’t you want to do this alone\, but with others? Then this is your chance! Immerse yourself step by step into the world of tango with us. In this crash course (Level 1) you don’t need any previous knowledge\, just openness and fun with the movement\, because we start from the beginning with the basics of tango. \n🥭 The course takes place on the weekend: April 11th – April 13th\, 2025. \nPart 1: Fr\, 4/11/25\, 6:00 p.m. – 9:00 p.m. (with 30 min. break) – with Marcelo & Fanni \nPart 2: Sat\, 4/12/24\, 4:30 p.m. – 7:30 p.m. (with 30 min. break) – with Marcelo & Noémi \nPart 3: Sun\, 4/13/25\, 10:00 a.m. – 1:00 p.m. (with 30 min. break) – with Noémi & Fanni \nThe course is constructive\, but you can also book individual days/parts; only part 1 is mandatory if you have no previous tango knowledge. The course will be in German/English. \n👉 Registration to the course directly here (via Eversports): \n\n		\n		\n			I am in!		\n	\n \nWe are really looking forward to having you there and looking forward to experiencing dancing together! \nBig hugs \nYOUR TANGO MANGO TEAM \n  \n🥭 Further information: \n📍 Location: @Tango Mango Studio\, Währinger Belt 81\, 1180 Vienna (U6 Währinger Straße/Volksoper) \nPrice: 145€/115€* (*Young discount – for everyone under 30) \nIndividual days/parts: 56€/44€* (*YOUNG) – whereby part 1 is mandatory if you have no previous knowledge. Thank you for your understanding. \nPS: Please register with a partner and if you do not have a dance-partner\, write us and we will try to help you to find one.
URL:https://tangomango.at/event/tango-argentino-crash-kurs-april-2025/
LOCATION:Tango Mango Studio\, Währinger Gürtel 81\, 1180 Wien\, Währinger Gürtel 81\, WIen\, Wien\, 1180\, Österreich
CATEGORIES:Events,Workshops
ATTACH;FMTTYPE=image/jpeg:https://tangomango.at/wp-content/uploads/2025/02/2.jpg
END:VEVENT
END:VCALENDAR