BEGIN:VCALENDAR
VERSION:2.0
PRODID:-//Tango Mango - ECPv6.2.9//NONSGML v1.0//EN
CALSCALE:GREGORIAN
METHOD:PUBLISH
X-WR-CALNAME:Tango Mango
X-ORIGINAL-URL:https://tangomango.at
X-WR-CALDESC:Veranstaltungen für Tango Mango
REFRESH-INTERVAL;VALUE=DURATION:PT1H
X-Robots-Tag:noindex
X-PUBLISHED-TTL:PT1H
BEGIN:VTIMEZONE
TZID:Europe/Berlin
BEGIN:DAYLIGHT
TZOFFSETFROM:+0100
TZOFFSETTO:+0200
TZNAME:CEST
DTSTART:20250330T010000
END:DAYLIGHT
BEGIN:STANDARD
TZOFFSETFROM:+0200
TZOFFSETTO:+0100
TZNAME:CET
DTSTART:20251026T010000
END:STANDARD
END:VTIMEZONE
BEGIN:VEVENT
DTSTART;TZID=Europe/Berlin:20250322T193000
DTEND;TZID=Europe/Berlin:20250322T204500
DTSTAMP:20260421T110451
CREATED:20250317T140549Z
LAST-MODIFIED:20250317T223948Z
UID:12881-1742671800-1742676300@tangomango.at
SUMMARY:PIMP UP YOUR TANGO! - Tango Workshops @Milonga Central - by Tango Mango
DESCRIPTION:PIMP UP YOUR TANGO! – by Tango Mango\nDu tanzt gerne Tango und hast Lust auf frischen Input? Du würdest gerne mehr Variation und Vielfalt in Deinen Tanz bringen? Oder auch mehr Ausdruck und Verbindung? Oder kommst einfach gerne zu uns?\nMit Tango Mango hast Du die Gelegenheit Deinen Tango upzugraden. \n  \n🥭 Samstag\, 22.3.2025 – 19:30-20:45 Uhr  – @ÖTK\, Bäckerstraße 16\, 1010 Wien \n“Out of Axis & Flexible Embrace” (part 2; no need of having been in part 1) – Marcelo & Fanni \nDescription: Lets deep dive into out of axis once again! You’ll get more comfortable moving out of axis while keeping the embrace relaxed and adaptable. We’ll focus on balance\, connection\, and making everything feel as smooth as possible. Let’s keep exploring together! \n📍@ÖTK\, Bäckerstraße 16\, 1010 Wien \n  \nWeitere Termine: 5.4.25 | 10.5.25 \n  \nVergangene Termine: \n🥭 AnfängerInnen Special: 1.3.25 – Tango Schnupperstunde (inkl. Milonga!) von 18:30-19:30 Uhr. \nAnschließend findet eine besondere Edition der Milonga Central statt: nämlich für AnfängerInnen; von 20:00 – 23:00 Uhr. \n🥭 Samstag\, 1.2.2025 – 19:30-20:45 Uhr  – @ÖTK\, Bäckerstraße 16\, 1010 Wien \n“Out of Axis & Flexible Embrace” (Marcelo & Fanni) \nThis workshop is all about stepping out of axis with confidence and ease while maintaining a strong connection with your partner. The focus is on adapting the embrace flexibly to make movements smoother and more natural. Perfect for anyone looking to add more dynamic and excitement to their tango. Join us and get inspired! \n  \nℹ️ Preis pro Workshop/Person: 25€/20€* (inkl. Milonga-Eintritt) \n*Ermäßigung YOUNG für alle unter 30 Jahren. \nMelde Dich gerne mit Partner/in an unter: info@tangomango.at\, Tel: 06763421725. \nWir freuen uns auf Euch! \nAbrazo \nDein Tango Mango Team 🕺💃 \nPS: Die Bezahlung erfolgt bar vor Ort. Vielen Dank.
URL:https://tangomango.at/event/pimp-up-your-tango-tango-workshops-milonga-central-by-tango-mango-3/
LOCATION:ÖTK\, Bäckerstraße 16\, Bäckerstraße 16\, 1010 Wien\, Wien\, 1010\, Österreich
CATEGORIES:Events,Workshops
ATTACH;FMTTYPE=image/png:https://tangomango.at/wp-content/uploads/2025/01/Pimp-up-your-tango_Milonga-Central-2025.png
END:VEVENT
END:VCALENDAR