BEGIN:VCALENDAR
VERSION:2.0
PRODID:-//Tango Mango - ECPv6.2.9//NONSGML v1.0//EN
CALSCALE:GREGORIAN
METHOD:PUBLISH
X-ORIGINAL-URL:https://tangomango.at
X-WR-CALDESC:Veranstaltungen für Tango Mango
REFRESH-INTERVAL;VALUE=DURATION:PT1H
X-Robots-Tag:noindex
X-PUBLISHED-TTL:PT1H
BEGIN:VTIMEZONE
TZID:Europe/Berlin
BEGIN:DAYLIGHT
TZOFFSETFROM:+0100
TZOFFSETTO:+0200
TZNAME:CEST
DTSTART:20240331T010000
END:DAYLIGHT
BEGIN:STANDARD
TZOFFSETFROM:+0200
TZOFFSETTO:+0100
TZNAME:CET
DTSTART:20241027T010000
END:STANDARD
END:VTIMEZONE
BEGIN:VEVENT
DTSTART;TZID=Europe/Berlin:20241207T193000
DTEND;TZID=Europe/Berlin:20241207T204500
DTSTAMP:20260421T060902
CREATED:20241004T220835Z
LAST-MODIFIED:20241129T103810Z
UID:12785-1733599800-1733604300@tangomango.at
SUMMARY:PIMP UP YOUR TANGO! - Tango Workshops @Milonga Central - by Tango Mango
DESCRIPTION:PIMP UP YOUR TANGO! – by Tango Mango\nDu tanzt gerne Tango und hast Lust auf frischen Input? Du würdest gerne mehr Variation und Vielfalt in Deinen Tanz bringen? Oder auch mehr Ausdruck und Verbindung? Oder kommst einfach gerne zu uns?\nMit Tango Mango hast Du die Gelegenheit Deinen Tango upzugraden. \n  \n🥭 Samstag\, 7.12.24 – 19:30-20:45 Uhr  – @ÖTK\, Bäckerstraße 16\, 1010 Wien \n“Ganchos mit Flow” (Marcelo & Noémi) \nMach deine Ganchos geschmeidig und souverän! In diesem Workshop feilen wir an Technik\, Timing und der Verbindung\, damit deine Ganchos nicht nur cool aussehen\, sondern sich auch richtig gut anfühlen. Perfekt\, um vor der Milonga neuen Schwung auf die Tanzfläche zu bringen. Sei mit dabei! \n  \nVergangene Termine: \n🥭 Samstag\, 21.9.24 – 19:30-20:45 Uhr  – @ÖTK\, Bäckerstraße 16\, 1010 Wien  \n“Connection in opposite directions” (Marcelo & Fanni) \n🥭 Samstag\, 9.11.24 – 19:30-20:45 Uhr  – @ÖTK\, Bäckerstraße 16\, 1010 Wien  \n„Einblicke in die Welt der Sacadas – Fokus: Back Sacadas“ \n  \n  \nPreis pro Workshop/Person: 25€/20€ (inkl. Milonga-Eintritt)* \n*Ermäßigung YOUNG für alle unter 30 Jahren. \nMelde Dich gerne mit Partner/in an unter: info@tangomango.at\, Tel: 06763421725. \nWir freuen uns auf Euch! \nAbrazo \nDein Tango Mango Team 🕺💃 \nPS: Die Bezahlung erfolgt bar vor Ort. Vielen Dank.
URL:https://tangomango.at/event/pimp-up-your-tango-tango-workshops-milonga-central-by-tango-mango-2/
LOCATION:ÖTK\, Bäckerstraße 16\, Bäckerstraße 16\, 1010 Wien\, Wien\, 1010\, Österreich
CATEGORIES:Events,Workshops
ATTACH;FMTTYPE=image/jpeg:https://tangomango.at/wp-content/uploads/2024/09/Pimp-up-your-tango_Milonga-Central-ab-Sept2024.jpg
END:VEVENT
END:VCALENDAR