BEGIN:VCALENDAR
VERSION:2.0
PRODID:-//Tango Mango - ECPv6.2.9//NONSGML v1.0//EN
CALSCALE:GREGORIAN
METHOD:PUBLISH
X-ORIGINAL-URL:https://tangomango.at
X-WR-CALDESC:Veranstaltungen für Tango Mango
REFRESH-INTERVAL;VALUE=DURATION:PT1H
X-Robots-Tag:noindex
X-PUBLISHED-TTL:PT1H
BEGIN:VTIMEZONE
TZID:Europe/Berlin
BEGIN:DAYLIGHT
TZOFFSETFROM:+0100
TZOFFSETTO:+0200
TZNAME:CEST
DTSTART:20240331T010000
END:DAYLIGHT
BEGIN:STANDARD
TZOFFSETFROM:+0200
TZOFFSETTO:+0100
TZNAME:CET
DTSTART:20241027T010000
END:STANDARD
END:VTIMEZONE
BEGIN:VEVENT
DTSTART;TZID=Europe/Berlin:20240921T193000
DTEND;TZID=Europe/Berlin:20240921T204500
DTSTAMP:20260421T010523
CREATED:20240917T124834Z
LAST-MODIFIED:20240917T131213Z
UID:12777-1726947000-1726951500@tangomango.at
SUMMARY:PIMP UP YOUR TANGO! - Tango Workshops @Milonga Central - by Tango Mango
DESCRIPTION:PIMP UP YOUR TANGO! – by Tango Mango\nDu tanzt gerne Tango und hast Lust auf frischen Input? Du würdest gerne mehr Variation und Vielfalt in Deinen Tanz bringen? Oder auch mehr Ausdruck und Verbindung? Oder kommst einfach gerne zu uns?\nMit Tango Mango hast Du die Gelegenheit Deinen Tango upzugraden. \n  \n🥭 Samstag\, 21.9.24 – 19:30-20:45 Uhr  – @ÖTK\, Bäckerstraße 16\, 1010 Wien  \n“Connection in opposite directions” (Marcelo & Fanni) \nJoin us for a workshop where we will explore movement in new directions and break away from familiar patterns. We’ll experiment with creative variations and focus on connection and communication between partners. Along the way\, we’ll add some elegant details to bring more expression into the movements. \nWeitere Termine: \n🥭 Samstag\, 9.11.24 – 19:30-20:45 Uhr  – @ÖTK\, Bäckerstraße 16\, 1010 Wien  \n🥭 Samstag\, 7.12.24 – 19:30-20:45 Uhr  – @ÖTK\, Bäckerstraße 16\, 1010 Wien \n  \nPreis pro Workshop/Person: 25€/20€ (inkl. Milonga-Eintritt)* \n*Ermäßigung YOUNG für alle unter 30 Jahren. \nMelde Dich gerne mit Partner/in an unter: info@tangomango.at\, Tel: 06763421725. \nWir freuen uns auf Euch! \nAbrazo \nDein Tango Mango Team 🕺💃 \nPS: Die Bezahlung erfolgt bar vor Ort. Vielen Dank.
URL:https://tangomango.at/event/pimp-up-your-tango-tango-workshops-milonga-central-by-tango-mango/
LOCATION:ÖTK\, Bäckerstraße 16\, Bäckerstraße 16\, 1010 Wien\, Wien\, 1010\, Österreich
CATEGORIES:Events
ATTACH;FMTTYPE=image/jpeg:https://tangomango.at/wp-content/uploads/2024/09/Pimp-up-your-tango_Milonga-Central-ab-Sept2024.jpg
END:VEVENT
END:VCALENDAR