BEGIN:VCALENDAR
VERSION:2.0
PRODID:-//Tango Mango - ECPv6.2.9//NONSGML v1.0//EN
CALSCALE:GREGORIAN
METHOD:PUBLISH
X-WR-CALNAME:Tango Mango
X-ORIGINAL-URL:https://tangomango.at
X-WR-CALDESC:Veranstaltungen für Tango Mango
REFRESH-INTERVAL;VALUE=DURATION:PT1H
X-Robots-Tag:noindex
X-PUBLISHED-TTL:PT1H
BEGIN:VTIMEZONE
TZID:Europe/Berlin
BEGIN:DAYLIGHT
TZOFFSETFROM:+0100
TZOFFSETTO:+0200
TZNAME:CEST
DTSTART:20240331T010000
END:DAYLIGHT
BEGIN:STANDARD
TZOFFSETFROM:+0200
TZOFFSETTO:+0100
TZNAME:CET
DTSTART:20241027T010000
END:STANDARD
END:VTIMEZONE
BEGIN:VEVENT
DTSTART;TZID=Europe/Berlin:20240627T180000
DTEND;TZID=Europe/Berlin:20240725T204500
DTSTAMP:20260420T182057
CREATED:20240522T195844Z
LAST-MODIFIED:20240522T200835Z
UID:12690-1719511200-1721940300@tangomango.at
SUMMARY:Special Summer Workshops - Milonga & Vals Special
DESCRIPTION:Special Summer Workshops – Milonga & Vals Specials\nSpecial Summer Workshops 2024 – Milonga & Vals \n5x am DONNERSTAG ab ENDE JUNI:  \n27.6.| 4.7.| 11.7.| 18.7.| 25.7. \n📍Open Stage Theaterwerkstatt \n🥭 Milonga – 18:00 – 19:15 Uhr \nWie der Name schon sagt\, begeben wir uns in die Welt der Milonga. Wir erlernen von den Basics der Milonga über den Rhythmus verschiedene Elemente\, die sich besonders gut eignen. Das Ziel ist nach den insgesamt 5 Workshops auf Milonga tanzen zu können\, sich wohl zu fühlen und vor allem Freiheit und Spaß zu verspüren. Das Motto lautet: Let´s play! \nDie insgesamt 5 Workshops sind aufeinander aufbauen\, können aber auch getrennt besucht werden. Für diejenigen\, die noch nie Milonga getanzt haben\, empfehlen wir den ersten Workshop mit der Einführung auf jeden Fall zu besuchen.  \n\n		\n		\n			Anmeldung zu Milonga		\n	\n \n🥭 Vals – 19:30 – 20:45 Uhr \nLasst uns durch spielerische Kombinationen im 3/4 Takt den Vals schwungvoll und elegant gestalten. Wir erlernen die Verspieltheit des Vals kennen und verbinden unterschiedliche Bewegungen miteinander\, verinnerlichen diese\, sodass der Vals-Rhythmus ins Fleisch und Blut übergeht. \nDie insgesamt 5 Workshops sind sind für alle Levels geeignet und aufeinander aufbauen\, können aber auch getrennt besucht werden. Für diejenigen\, die noch nie Tango Vals getanzt haben\, empfehlen wir den ersten Workshop mit der Einführung auf jeden Fall zu besuchen.  \n\n		\n		\n			Anmeldung zu Vals		\n	\n \n👉 Für die Workshops ist ein/e Partner/in erforderlich. Bitte um separate Anmeldung. \nWir freuen uns schon sehr auf Euch! \nAbrazo \nFanni\, Noémi & Marcelo \n  \n🚹 Preis pro Person: \nMilonga Package (5x Workshop): 115€ /95€* \nMilonga WS (1x): 28€/22€* \nVals Package (5x Workshop): 115€ /95€* \nVals WS (1x): 28€/22€* \n*Ermäßigung YOUNG für alle unter 30 Jahren.
URL:https://tangomango.at/event/special-sommer-workshops-milonga-vals2024/
LOCATION:Tango Mango Studio\, Währinger Gürtel 81\, 1180 Wien\, Währinger Gürtel 81\, WIen\, Wien\, 1180\, Österreich
CATEGORIES:Workshops
ATTACH;FMTTYPE=image/jpeg:https://tangomango.at/wp-content/uploads/2024/05/IMG_4258-scaled.jpg
ORGANIZER;CN="Marcelo & No%C3%A9mi":MAILTO:info@tangomango.at
END:VEVENT
BEGIN:VEVENT
DTSTART;TZID=Europe/Berlin:20240628T173000
DTEND;TZID=Europe/Berlin:20240630T173000
DTSTAMP:20260420T182057
CREATED:20240328T211319Z
LAST-MODIFIED:20240523T151030Z
UID:12650-1719595800-1719768600@tangomango.at
SUMMARY:Tango Weekend with Pepa Palazón! - by Tango Mango & Tango PopUp
DESCRIPTION:Tango Weekend with Pepa Palazon – by Tango Mango & Tango PopUp\nIntensive musicality workshops \nWe are very happy and lucky to have Pepa Palazon in Vienna. We are sharing our forces with Tango Pop Up (Sylvia & Bernd) and organizing this special weekend together from 28th to 30th of June.  \nThere are 2 milongas\, 5 musicality workshops and an unforgettable weekend waiting for you. \nIf you don’t know Pepa yet\, don’t miss the opportunity to meet her in person. She had a huge impact on the modern tango\, working and seeing herself as an ambassador for tango and its culture. Read more about her below.* \n  \n🥭 FRIDAY\, 28th of June – @Galería Ideal\, Geibelgasse 14\, 1150 Wien \n7:00 – 8:30 p.m. – Workshop #1: Rhythmic base and melodic line in traditional tango orchestras \n\nRhythm and Melody\nMarcato 4 and Marcato 2 (of the dancers)\nPulse\nPhrases\nMelodical rest I\n\nYou will study about the music of:\nAngel D’AGOSTINO\, Juan D’ARIENZO and Carlos DI SARLI of the ’50s\n**No need to come as a couple but it is better. \n🥳 9:00 p.m. – 2:00 a.m. – Pre-Party Milonga – by Tango PopUp & Tango Mango  –  \nDJNE: Irena Jerkovic 🎶 \n🔥 Show with: Fanni Laurinyecz & May Bevilacqua 🔥 \n(no registration for the milonga needed) \n📍Location workshops & milonga on FRIDAY: Galería Ideal\, Geibelgasse 14\, 1150 Wien \n  \n🥭 SATURDAY\, 29th of June – @ÖTK\, Bäckerstrasse 16\, 1010 Wien \n03:00 – 4:30 p.m. – Workshop #2: Arrastre and síncopas \n\nHow to recognize and apply the use of 4 and 1 (in the beat) and Syncopation in dance. Introduction to Osvaldo Pugliese\nStop Time\n\nYou will study about the music of:\nOsvaldo PUGLIESE and Francisco CANARO \n**No need to come as a couple but it is better. \n5:00 – 6:30 p.m. – Workshop #3: „STOP time“ in the rhythmic base \n\nStop Times in the different Tango Orchestras\nHow to recognize them and how to dance them\n\nYou will study about the music of:\nMiguel Caló\, Biaggi\, Tanturi and Juans D´ARIENZO \n**No partner needed. \n🥳 9:00 p.m. – 3:00 a.m. – Milonga with DJNE Pepa Palazón 🎶 \n(no registration for the milonga needed) \n📍Location workshops & milonga on SATURDAY & SUNDAY: @ÖTK\, Bäckerstrasse 16\, 1010 Wien \n  \n🥭 SUNDAY\, 30th of June – @ÖTK\, Bäckerstrasse 16\, 1010 Wien \n2:00 – 3:30 p.m. – Workshop #4: Anibal TROILO & Osvaldo PUGLIESE \n\nTempo fijo\, tempo variable & tempo fluctuante\n\n**No partner needed. \n  \n4:00 – 5:30 p.m. – Workshop #5: MIGUEL CALÓ – Corazón no le hagas caso (1942) \n\nRhythmic and melodic combinations  (with drums)\nHow to start playing (to combine) with the two lines of the dance\n\n**No partner needed. \n📍Location workshops & milonga on SATURDAY & SUNDAY: @ÖTK\, Bäckerstrasse 16\, 1010 Wien \n👉 Registration for the workshops directly online here (limited places): \n\n		\n		\n			Ich bin dabei!		\n	\n \n📍Location workshops & milonga on SATURDAY & SUNDAY: @ÖTK\, Bäckerstrasse 16\, 1010 Wien \n  \nℹ️ Price per person: \n1x Workshop: 28€/ 22€*  \nFull-Workshop Package (5x WS): 115€/ 95€*  \n*Reduction YOUNG for everyone under 30 years. \n  \n🥭 ABOUT Pepa \nPepa Palazón\, has been organizing one of the most popular milongas in Buenos Aires for 12 years called “Viva la Pepa! Milonga”. Additionally\, Pepa has been dancing tango for 19 years and she has been teaching regularly in Buenos Aires and worldwide for 11 years\, giving classes for all levels. \nShe is a graduate of the Superior Conservatory of Buenos Aires music (Tango and Folklore). She specializes in teaching music to dancers. \nAt the same time\, she makes a tv program dedicated to recovering the Living History of Tango Dance\, called “Tengo una pregunta para vos” (I have a question for you) that you can watch for free on her youtube channel. \n 🥭 PEPA´s MUSICALITY CLASSES\nHer musicality classes are 100% practical (so it’s not only musicality in theory but you will dance a lot!) and no partner is needed. You will work on the verticality of the music\, (?) from dance: You are going to study the different musical lines that are heard at the same time in some tangos. If you can hear them\, you can choose which line to dance and how to dance it. \nYou will be able to separate those lines and dance them on concrete musical examples\, the main rhythmic and melodic elements that we find in the Traditional Tango Orchestras. \n  \nWe are looking forward to this wonderful weekend with you! \nBig hugs \nYour Tango Mango Team & Tango PopUp \n 
URL:https://tangomango.at/event/pepapalazon/
LOCATION:ÖTK\, Bäckerstraße 16\, Bäckerstraße 16\, 1010 Wien\, Wien\, 1010\, Österreich
CATEGORIES:Events
ATTACH;FMTTYPE=image/jpeg:https://tangomango.at/wp-content/uploads/2024/03/FB-Werbugn-Argentino-Schnupperstunde-am-04.11.jpeg
END:VEVENT
END:VCALENDAR