BEGIN:VCALENDAR
VERSION:2.0
PRODID:-//Tango Mango - ECPv6.2.9//NONSGML v1.0//EN
CALSCALE:GREGORIAN
METHOD:PUBLISH
X-WR-CALNAME:Tango Mango
X-ORIGINAL-URL:https://tangomango.at
X-WR-CALDESC:Veranstaltungen für Tango Mango
REFRESH-INTERVAL;VALUE=DURATION:PT1H
X-Robots-Tag:noindex
X-PUBLISHED-TTL:PT1H
BEGIN:VTIMEZONE
TZID:Europe/Berlin
BEGIN:DAYLIGHT
TZOFFSETFROM:+0100
TZOFFSETTO:+0200
TZNAME:CEST
DTSTART:20240331T010000
END:DAYLIGHT
BEGIN:STANDARD
TZOFFSETFROM:+0200
TZOFFSETTO:+0100
TZNAME:CET
DTSTART:20241027T010000
END:STANDARD
END:VTIMEZONE
BEGIN:VEVENT
DTSTART;TZID=Europe/Berlin:20240224T193000
DTEND;TZID=Europe/Berlin:20240225T020000
DTSTAMP:20260420T121119
CREATED:20240125T160551Z
LAST-MODIFIED:20240129T224032Z
UID:12609-1708803000-1708826400@tangomango.at
SUMMARY:Milonga Central - hosted by Tango Mango
DESCRIPTION:¡Hola Tanguer@s! \nWegen der großen Nachfrage steigt am 24. Februar 2024 steigt gleich die nächste Tango Party von Tango Mango in der Milonga Central (Bäckerstraße 16) begrüßen! 🎉 Schau vorbei und lass uns gemeinsam eine gute Zeit verbringen. \n🥭 Wann geht’s los? \nDie Tür öffnet sich um 19:30 Uhr für eine Tango-Schnupperstunde. Sowohl für alle Neugierigen & Unerschrockenen als auch für diejenigen\, die noch nicht tanzen und Tango entdecken wollen. Komm einfach wie du bist; mit oder ohne Partner:in. Die eigentliche Milonga beginnt dann um 21:00 Uhr und geht bis 02:00 Uhr – Zeit genug\, um die Nacht zum Tag zu machen und das Tanzbein zu schwingen! \n🥭 Was erwartet euch? \nGute Stimmung. Gute Musik. Gute Drinks. \n🥭 Über den DJ/die DJNE: \nDJNE Anca Madroane aus Timisoara (RO): \n“When you wake up in the morning with a tango orchestra playing in your head\, you definitely have to do something about this\, especially when you start humming while walking on the street. So I believe this is how the tango music madness began.\nDJ-ing came as a result of being enthusiastic about finding facts about tango music\, about tango orchestras and their stories\, as well as wanting to share these facts with other people\, who might like tango at least as much as I do\, but they might not know it yet.” \n🥭 Fazit: \nAm 24. Feber wartet ein Abend voller Tango\, guter Musik und toller Gesellschaft auf dich. Merke dir das Datum vor\, packe deine Tanzschuhe ein und sei dabei! Wir freuen uns auf Dich! \nAbrazo\, \nDein Tango Mango Team 🕺💃 \nEintritt: 15€/10€* \n*Ermäßigung YOUNG für alle unter 30 Jahren. \nPS: Es ist keine Anmeldung für die Milonga notwendig\, komm einfach wie Du bist. Die Bezahlung erfolgt bar vor Ort. Vielen Dank.
URL:https://tangomango.at/event/milonga-central-hosted-by-tango-mango-februar24/
LOCATION:ÖTK\, Bäckerstraße 16\, Bäckerstraße 16\, 1010 Wien\, Wien\, 1010\, Österreich
CATEGORIES:Events
ATTACH;FMTTYPE=image/png:https://tangomango.at/wp-content/uploads/2024/01/Milonga-Central-Flyer-neu-Februar-2024_mit-DJNE-Anca-WEB.png
ORGANIZER;CN="Marcelo & No%C3%A9mi":MAILTO:info@tangomango.at
END:VEVENT
END:VCALENDAR